BEGIN:VCALENDAR
VERSION:2.0
PRODID:spatie/icalendar-generator
DESCRIPTION:Events from Superiorland Library Cooperative
X-WR-CALDESC:Events from Superiorland Library Cooperative
REFRESH-INTERVAL;VALUE=DURATION:PT1440M
X-PUBLISHED-TTL:PT1440M
BEGIN:VTIMEZONE
TZID:America/New_York
BEGIN:STANDARD
DTSTART:20251102T020000Z
TZOFFSETFROM:-0400
TZOFFSETTO:-0500
END:STANDARD
BEGIN:DAYLIGHT
DTSTART:20260308T020000Z
TZOFFSETFROM:-0500
TZOFFSETTO:-0400
END:DAYLIGHT
BEGIN:STANDARD
DTSTART:20261101T020000Z
TZOFFSETFROM:-0400
TZOFFSETTO:-0500
END:STANDARD
END:VTIMEZONE
BEGIN:VTIMEZONE
TZID:UTC
BEGIN:STANDARD
DTSTART:20250729T191308Z
TZOFFSETFROM:+0000
TZOFFSETTO:+0000
END:STANDARD
END:VTIMEZONE
BEGIN:VEVENT
UID:51-29
DTSTAMP:20260425T191308Z
SUMMARY:UPRLC Board Meeting
LOCATION:
ORGANIZER;CN=Tricia Wylie:MAILTO:twylie@superiorlandlibrary.org
DTSTART;TZID=America/New_York:20260505T140000
DTEND;TZID=America/New_York:20260505T150000
X-ALT-DESC;FMTTYPE=TEXT/HTML:Meeting time is 1pm CST / 2pm EST.
CATEGORIES:General
URL;VALUE=URI:https://superiorlandlibrary.org/mc-events/uprlc-board-meeting
 -2/
METHOD:PUBLISH
END:VEVENT
END:VCALENDAR