BEGIN:VCALENDAR
VERSION:2.0
PRODID:spatie/icalendar-generator
DESCRIPTION:Events from Superiorland Library Cooperative
X-WR-CALDESC:Events from Superiorland Library Cooperative
REFRESH-INTERVAL;VALUE=DURATION:PT1440M
X-PUBLISHED-TTL:PT1440M
BEGIN:VTIMEZONE
TZID:America/New_York
BEGIN:STANDARD
DTSTART:20251102T020000Z
TZOFFSETFROM:-0400
TZOFFSETTO:-0500
END:STANDARD
BEGIN:DAYLIGHT
DTSTART:20260308T020000Z
TZOFFSETFROM:-0500
TZOFFSETTO:-0400
END:DAYLIGHT
END:VTIMEZONE
BEGIN:VTIMEZONE
TZID:UTC
BEGIN:STANDARD
DTSTART:20250729T161850Z
TZOFFSETFROM:+0000
TZOFFSETTO:+0000
END:STANDARD
END:VTIMEZONE
BEGIN:VEVENT
UID:27-12
DTSTAMP:20260425T161850Z
SUMMARY:SLC Directors Monthly Meeting
LOCATION:
ORGANIZER;CN=Tricia Wylie:MAILTO:twylie@superiorlandlibrary.org
DTSTART;TZID=America/New_York:20260406T110000
DTEND;TZID=America/New_York:20260406T120000
X-ALT-DESC;FMTTYPE=TEXT/HTML:SLC directors meet monthly at 11am in Microsof
 t Teams.  Please join us for an informal\, open discussion.  Hope to see
  you there!
CATEGORIES:General
URL;VALUE=URI:https://superiorlandlibrary.org/mc-events/slc-directors-month
 ly-meeting-6/
METHOD:PUBLISH
END:VEVENT
END:VCALENDAR